BEGIN:VCALENDAR
VERSION:2.0
BEGIN:VEVENT
DTSTART:20230922T073000Z
DTEND:20230922T110000Z
SUMMARY:Poyle Point Breakfast Open Morning
DESCRIPTION:Breakfast open morning.
LOCATION:Poyle Point, Blackthorne Road, Poyle, Heathrow SL3 0DU
END:VEVENT
END:VCALENDAR
